BEGIN:VCALENDAR
VERSION:2.0
PRODID:-//Care Foundation and Charitable Trust - ECPv6.15.13.1//NONSGML v1.0//EN
CALSCALE:GREGORIAN
METHOD:PUBLISH
X-WR-CALNAME:Care Foundation and Charitable Trust
X-ORIGINAL-URL:https://carefoundationjk.org
X-WR-CALDESC:Events for Care Foundation and Charitable Trust
REFRESH-INTERVAL;VALUE=DURATION:PT1H
X-Robots-Tag:noindex
X-PUBLISHED-TTL:PT1H
BEGIN:VTIMEZONE
TZID:UTC
BEGIN:STANDARD
TZOFFSETFROM:+0000
TZOFFSETTO:+0000
TZNAME:UTC
DTSTART:20240101T000000
END:STANDARD
END:VTIMEZONE
BEGIN:VEVENT
DTSTART;TZID=UTC:20251211T080000
DTEND;TZID=UTC:20251211T170000
DTSTAMP:20260419T172307
CREATED:20241211T092903Z
LAST-MODIFIED:20241211T092903Z
UID:5639-1765440000-1765472400@carefoundationjk.org
SUMMARY:Charities working in high impact causes to word
DESCRIPTION:Sed ut perspiciatis unde omnis iste natus error sit voluptatem accusantium doloremque laudantium\, totam rem aperiam\, eaque ipsa quae ab illo. \nSed ut perspiciatis unde omnis iste natus error sit voluptatem accusantium doloremque laudantium\, totam rem aperiam\, eaque ipsa quae ab illo inventore veritatis et quasi architecto beatae vitae dicta sunt explicabo. Nemo enim ipsam voluptatem quia voluptas sit aspernatur aut odit aut fugit\, sed quia consequuntur magni dolores eos qui ratione voluptatem sequi nesciunt.
URL:https://carefoundationjk.org/event/charities-working-in-high-impact-causes-to-word/
LOCATION:New York\, 8 King Street\, Queens\, United States
CATEGORIES:Education
ATTACH;FMTTYPE=image/jpeg:https://carefoundationjk.org/wp-content/uploads/2025/05/campaign-01.jpg
END:VEVENT
BEGIN:VEVENT
DTSTART;TZID=UTC:20251211T080000
DTEND;TZID=UTC:20251211T170000
DTSTAMP:20260419T172307
CREATED:20241211T092836Z
LAST-MODIFIED:20241211T092836Z
UID:5637-1765440000-1765472400@carefoundationjk.org
SUMMARY:Help make learning possible for all students
DESCRIPTION:Sed ut perspiciatis unde omnis iste natus error sit voluptatem accusantium doloremque laudantium\, totam rem aperiam\, eaque ipsa quae ab illo. \nSed ut perspiciatis unde omnis iste natus error sit voluptatem accusantium doloremque laudantium\, totam rem aperiam\, eaque ipsa quae ab illo inventore veritatis et quasi architecto beatae vitae dicta sunt explicabo. Nemo enim ipsam voluptatem quia voluptas sit aspernatur aut odit aut fugit\, sed quia consequuntur magni dolores eos qui ratione voluptatem sequi nesciunt.
URL:https://carefoundationjk.org/event/help-make-learning-possible-for-all-students/
LOCATION:New York\, 8 King Street\, Queens\, United States
CATEGORIES:Education
ATTACH;FMTTYPE=image/jpeg:https://carefoundationjk.org/wp-content/uploads/2025/05/campaign-09.jpg
END:VEVENT
BEGIN:VEVENT
DTSTART;TZID=UTC:20251211T080000
DTEND;TZID=UTC:20251211T170000
DTSTAMP:20260419T172307
CREATED:20241211T092733Z
LAST-MODIFIED:20241211T092733Z
UID:5635-1765440000-1765472400@carefoundationjk.org
SUMMARY:Explore charity event ideas for fundraising
DESCRIPTION:Sed ut perspiciatis unde omnis iste natus error sit voluptatem accusantium doloremque laudantium\, totam rem aperiam\, eaque ipsa quae ab illo. \nSed ut perspiciatis unde omnis iste natus error sit voluptatem accusantium doloremque laudantium\, totam rem aperiam\, eaque ipsa quae ab illo inventore veritatis et quasi architecto beatae vitae dicta sunt explicabo. Nemo enim ipsam voluptatem quia voluptas sit aspernatur aut odit aut fugit\, sed quia consequuntur magni dolores eos qui ratione voluptatem sequi nesciunt.
URL:https://carefoundationjk.org/event/explore-charity-event-ideas-for-fundraising/
LOCATION:New York\, 8 King Street\, Queens\, United States
CATEGORIES:Education
ATTACH;FMTTYPE=image/jpeg:https://carefoundationjk.org/wp-content/uploads/2025/05/campaign-04.jpg
END:VEVENT
END:VCALENDAR